BEGIN:VCALENDAR
VERSION:2.0
PRODID:-//Pontificia Universidad Católica del Ecuador sede Santo Domingo - ECPv6.15.20//NONSGML v1.0//EN
CALSCALE:GREGORIAN
METHOD:PUBLISH
X-ORIGINAL-URL:https://pucesd.edu.ec
X-WR-CALDESC:Eventos para Pontificia Universidad Católica del Ecuador sede Santo Domingo
REFRESH-INTERVAL;VALUE=DURATION:PT1H
X-Robots-Tag:noindex
X-PUBLISHED-TTL:PT1H
BEGIN:VTIMEZONE
TZID:America/Guayaquil
BEGIN:STANDARD
TZOFFSETFROM:-0500
TZOFFSETTO:-0500
TZNAME:-05
DTSTART:20240101T000000
END:STANDARD
END:VTIMEZONE
BEGIN:VEVENT
DTSTART;TZID=America/Guayaquil:20250416T080000
DTEND;TZID=America/Guayaquil:20250529T170000
DTSTAMP:20260420T031731
CREATED:20250416T213801Z
LAST-MODIFIED:20250416T213801Z
UID:38774-1744790400-1748538000@pucesd.edu.ec
SUMMARY:JORNADA “MISIÓN\, UNIVERSIDAD Y DIÁLOGO FE-CULTURA
DESCRIPTION:JORNADA “MISIÓN\, UNIVERSIDAD Y DIÁLOGO FE-CULTURA \n\n\n\n\n Jueves\, 29 de mayo de 2025 PUCE Santo Domingo\n\n\n\n\n\nMás información aquí
URL:https://pucesd.edu.ec/agenda/jornada-mision-universidad-y-dialogo-fe-cultura/
CATEGORIES:evento
ATTACH;FMTTYPE=image/jpeg:https://pucesd.edu.ec/wp-content/uploads/2025/04/492026973_686764197366492_3311338540648259271_n.jpg
END:VEVENT
BEGIN:VEVENT
DTSTART;TZID=America/Guayaquil:20250506T080000
DTEND;TZID=America/Guayaquil:20250530T170000
DTSTAMP:20260420T031731
CREATED:20250506T204820Z
LAST-MODIFIED:20250506T205339Z
UID:39002-1746518400-1748624400@pucesd.edu.ec
SUMMARY:Aniversario PUCESD | 30 años de historia
DESCRIPTION:LA PUCESD CELEBRA SUS 30 AÑOS \n\n\n\n\nFecha: Viernes\, 30 de mayo de 2025Lugar: Pontificia Universidad Católica del Ecuador – Sede Santo DomingoAgenda: 10h00 | Misa de Acción de Gracias11h00 | Sesión Solemne – Aula Magna Fernando Rielo\n\n\n\n\n\nClick Here
URL:https://pucesd.edu.ec/agenda/aniversario-pucesd-30-anos-de-historia/
CATEGORIES:evento
ATTACH;FMTTYPE=image/jpeg:https://pucesd.edu.ec/wp-content/uploads/2025/05/cartel_30anos-1.jpg
END:VEVENT
END:VCALENDAR