BEGIN:VCALENDAR
VERSION:2.0
PRODID:-//Pontificia Universidad Católica del Ecuador sede Santo Domingo - ECPv6.15.20//NONSGML v1.0//EN
CALSCALE:GREGORIAN
METHOD:PUBLISH
X-WR-CALNAME:Pontificia Universidad Católica del Ecuador sede Santo Domingo
X-ORIGINAL-URL:https://pucesd.edu.ec
X-WR-CALDESC:Eventos para Pontificia Universidad Católica del Ecuador sede Santo Domingo
REFRESH-INTERVAL;VALUE=DURATION:PT1H
X-Robots-Tag:noindex
X-PUBLISHED-TTL:PT1H
BEGIN:VTIMEZONE
TZID:America/Guayaquil
BEGIN:STANDARD
TZOFFSETFROM:-0500
TZOFFSETTO:-0500
TZNAME:-05
DTSTART:20240101T000000
END:STANDARD
END:VTIMEZONE
BEGIN:VEVENT
DTSTART;TZID=America/Guayaquil:20250611T080000
DTEND;TZID=America/Guayaquil:20250730T170000
DTSTAMP:20260420T031455
CREATED:20250611T140801Z
LAST-MODIFIED:20250611T140801Z
UID:39332-1749628800-1753894800@pucesd.edu.ec
SUMMARY:Estudia con una beca en la PUCE Santo Domingo
DESCRIPTION:Convocatoria abierta | Segundo período 2025 \n\n\n\n\n Postula hasta el 30 de julio de 2025 Elige la beca que mejor se adapte a ti: Beca San Ignacio – para toda la carrera* Becas de Solidaridad\, Discapacidad\, Etnias y Pueblos Ancestrales\, Hijos de los Combatientes del conflicto bélico de1995\, Beca Laboral. Becas para Religiosos\, Abanderados\, Escoltas e Investigación. Beca para hermanos o familiares de estudiantes de la PUCE SD ¿Preguntas? ¡Escríbenos! becas@pucesd.edu.ec WhatsApp: 098 085 9079\n\n\n\n\n\nMás información aquí
URL:https://pucesd.edu.ec/agenda/estudia-con-una-beca-en-la-puce-santo-domingo/
CATEGORIES:evento
ATTACH;FMTTYPE=image/jpeg:https://pucesd.edu.ec/wp-content/uploads/2025/06/504423690_728354533207458_507038971770213509_n.jpg
END:VEVENT
BEGIN:VEVENT
DTSTART;TZID=America/Guayaquil:20250616T080000
DTEND;TZID=America/Guayaquil:20250620T170000
DTSTAMP:20260420T031455
CREATED:20250616T194552Z
LAST-MODIFIED:20250616T194553Z
UID:39544-1750060800-1750438800@pucesd.edu.ec
SUMMARY:Curso de Admisión_Medicina
DESCRIPTION:¡Inscríbete! \n\n\n\n\n Modalidad: Presencial Duración: 100 horas Inscripción: hasta el 20 de junio de 2025 Fechas del curso: del 23 de junio al 11 de julio de 2025 Horario: Lunes a viernes\, de 08h00 a 12h00 y de 14h00 a 18h00 Costo: $500 Más información: 098 541 7843
URL:https://pucesd.edu.ec/agenda/curso-de-admision_medicina/
CATEGORIES:evento
ATTACH;FMTTYPE=image/jpeg:https://pucesd.edu.ec/wp-content/uploads/2025/06/507516911_730101713032740_2355909751117565558_n.jpg
END:VEVENT
END:VCALENDAR