BEGIN:VCALENDAR
VERSION:2.0
PRODID:-//Pontificia Universidad Católica del Ecuador sede Santo Domingo - ECPv6.15.20//NONSGML v1.0//EN
CALSCALE:GREGORIAN
METHOD:PUBLISH
X-ORIGINAL-URL:https://pucesd.edu.ec
X-WR-CALDESC:Eventos para Pontificia Universidad Católica del Ecuador sede Santo Domingo
REFRESH-INTERVAL;VALUE=DURATION:PT1H
X-Robots-Tag:noindex
X-PUBLISHED-TTL:PT1H
BEGIN:VTIMEZONE
TZID:America/Guayaquil
BEGIN:STANDARD
TZOFFSETFROM:-0500
TZOFFSETTO:-0500
TZNAME:-05
DTSTART:20240101T000000
END:STANDARD
END:VTIMEZONE
BEGIN:VEVENT
DTSTART;TZID=America/Guayaquil:20250826T080000
DTEND;TZID=America/Guayaquil:20251125T170000
DTSTAMP:20260419T185710
CREATED:20250826T195924Z
LAST-MODIFIED:20250826T200014Z
UID:40713-1756195200-1764090000@pucesd.edu.ec
SUMMARY:II Jornadas Iberoamericanas de Bioética: Neuroética\, Bioderecho y Transhumanismo
DESCRIPTION:II Jornadas Iberoamericanas de Bioética: Neuroética\, Bioderecho y Transhumanismo \n\n\n\n\nConoce las reflexiones de expertos de España\, México\, Italia y Paraguay sobre temas urgentes como eutanasia\, mejoramiento genético\, reproducción asistida y derechos humanos.⁣⁣Participa\, comparte tu visión y forma parte de una comunidad que piensa más allá de los límites de la tecnología.⁣⁣27 y 28 de noviembre 2025⁣PUCE Ibarra | Centro de Convenciones Fernando Rielo⁣¡Inscríbete y presenta tu ponencia hasta el 27 de octubre!⁣\n\n\n\n\n\nMás información
URL:https://pucesd.edu.ec/agenda/ii-jornadas-iberoamericanas-de-bioetica-neuroetica-bioderecho-y-transhumanismo/
ATTACH;FMTTYPE=image/jpeg:https://pucesd.edu.ec/wp-content/uploads/2025/08/537257041_784501637592747_3374112574668051243_n-1.jpg
END:VEVENT
BEGIN:VEVENT
DTSTART;TZID=America/Guayaquil:20251105T080000
DTEND;TZID=America/Guayaquil:20251120T170000
DTSTAMP:20260419T185710
CREATED:20251105T151911Z
LAST-MODIFIED:20251105T151912Z
UID:41471-1762329600-1763658000@pucesd.edu.ec
SUMMARY:Curso "Identidad e Interculturalidad"
DESCRIPTION:Curso «Identidad e Interculturalidad» \n\n\n\n\nDel 24 de octubre al 20 de noviembre\n\n\n\n\n\nMás información
URL:https://pucesd.edu.ec/agenda/curso-identidad-e-interculturalidad/
CATEGORIES:evento
ATTACH;FMTTYPE=image/jpeg:https://pucesd.edu.ec/wp-content/uploads/2025/11/571377419_842311251811785_6262546442124132206_n.jpg
END:VEVENT
BEGIN:VEVENT
DTSTART;TZID=America/Guayaquil:20251119T090000
DTEND;TZID=America/Guayaquil:20251119T170000
DTSTAMP:20260419T185710
CREATED:20251106T192655Z
LAST-MODIFIED:20251106T192656Z
UID:41499-1763542800-1763571600@pucesd.edu.ec
SUMMARY:Taller Integral de Formación en Cacao y Chocolate
DESCRIPTION:🍫✨ ¡Descubre el arte y la ciencia detrás del cacao y el chocolate! \n\n\n\n \n\n\n\n🎯 Si eres productor\, emprendedor o amante del cacao\, este taller es para ti. \n\n\n\n📅 19 y 20 de noviembre de 2025 \n\n\n\n🕘 09h00 a 16h00 \n\n\n\n📍 Aula Magna Fernando Rielo – PUCESD \n\n\n\n💰 Solo $10\,00 (curso subsidiado por empresas privadas y la academia) \n\n\n\n👉 Cupos limitados. \n\n\n\n🤝 Organizan: PUCESD\, PUCE Esmeraldas\, PUCE Manabí\, GAD Provincial Santo Domingo de los Tsáchilas\, Orgánicos & Orgánicos\, Emigricola y Rehabvital. \n\n\n\n\n Inscríbete aquí
URL:https://pucesd.edu.ec/agenda/taller-integral-de-formacion-en-cacao-y-chocolate/
CATEGORIES:evento
ATTACH;FMTTYPE=image/jpeg:https://pucesd.edu.ec/wp-content/uploads/2025/11/01_CARTEL_CERT_CACAO-1.jpg
END:VEVENT
END:VCALENDAR