BEGIN:VCALENDAR
VERSION:2.0
PRODID:-//Pontificia Universidad Católica del Ecuador sede Santo Domingo - ECPv6.15.20//NONSGML v1.0//EN
CALSCALE:GREGORIAN
METHOD:PUBLISH
X-ORIGINAL-URL:https://pucesd.edu.ec
X-WR-CALDESC:Eventos para Pontificia Universidad Católica del Ecuador sede Santo Domingo
REFRESH-INTERVAL;VALUE=DURATION:PT1H
X-Robots-Tag:noindex
X-PUBLISHED-TTL:PT1H
BEGIN:VTIMEZONE
TZID:America/Guayaquil
BEGIN:STANDARD
TZOFFSETFROM:-0500
TZOFFSETTO:-0500
TZNAME:-05
DTSTART:20240101T000000
END:STANDARD
END:VTIMEZONE
BEGIN:VEVENT
DTSTART;TZID=America/Guayaquil:20251202T080000
DTEND;TZID=America/Guayaquil:20251222T170000
DTSTAMP:20260419T173414
CREATED:20251202T174707Z
LAST-MODIFIED:20251202T174708Z
UID:41711-1764662400-1766422800@pucesd.edu.ec
SUMMARY:Curso de admisión para la carrera Medicina
DESCRIPTION:Inscripciones hasta el 22 de diciembre de 2025 \n\n\n\nInicio de clases: 05 de enero de 2026 \n\n\n\nFin de clases: 24 de enero de 2026 \n\n\n\nCosto: 50 dólares \n\n\n\n\n Inscríbete aquí
URL:https://pucesd.edu.ec/agenda/curso-de-admision-para-la-carrera-medicina/
CATEGORIES:evento
ATTACH;FMTTYPE=image/jpeg:https://pucesd.edu.ec/wp-content/uploads/2025/12/587010069_860360273340216_8931685349465287077_n.jpg
END:VEVENT
END:VCALENDAR