BEGIN:VCALENDAR
VERSION:2.0
PRODID:-//Pontificia Universidad Católica del Ecuador sede Santo Domingo - ECPv6.15.20//NONSGML v1.0//EN
CALSCALE:GREGORIAN
METHOD:PUBLISH
X-ORIGINAL-URL:https://pucesd.edu.ec
X-WR-CALDESC:Eventos para Pontificia Universidad Católica del Ecuador sede Santo Domingo
REFRESH-INTERVAL;VALUE=DURATION:PT1H
X-Robots-Tag:noindex
X-PUBLISHED-TTL:PT1H
BEGIN:VTIMEZONE
TZID:America/Guayaquil
BEGIN:STANDARD
TZOFFSETFROM:-0500
TZOFFSETTO:-0500
TZNAME:-05
DTSTART:20230101T000000
END:STANDARD
END:VTIMEZONE
BEGIN:VEVENT
DTSTART;TZID=America/Guayaquil:20250411T080000
DTEND;TZID=America/Guayaquil:20250414T233000
DTSTAMP:20260419T155925
CREATED:20250411T210917Z
LAST-MODIFIED:20250411T211253Z
UID:38744-1744358400-1744673400@pucesd.edu.ec
SUMMARY:Oferta de empleo
DESCRIPTION:Cargo: Asistente de Tesorería \n\n\n\n\nPerfil requerido:Titulado en carreras de Administración o Contabilidad1 año de experienciaManejo de Excel\, Gmail\, sistemas contables y banca empresas\n\n\n\n\n\nMás información
URL:https://pucesd.edu.ec/agenda/oferta-de-empleo-2/
ATTACH;FMTTYPE=image/png:https://pucesd.edu.ec/wp-content/uploads/2025/04/002_OFERTA_EMPLEO_2025.png
END:VEVENT
BEGIN:VEVENT
DTSTART;TZID=America/Guayaquil:20250410T100000
DTEND;TZID=America/Guayaquil:20250410T130000
DTSTAMP:20260419T155925
CREATED:20250407T205020Z
LAST-MODIFIED:20250407T205030Z
UID:38707-1744279200-1744290000@pucesd.edu.ec
SUMMARY:Rendición de cuentas PUCESD 2024
DESCRIPTION:Rendición de cuentas PUCESD 2024 \n\n\n\n\n🖍️Fecha: 10/04/2025   🖍️Hora: 10h00
URL:https://pucesd.edu.ec/agenda/rendicion-de-cuentas-pucesd-2024/
ATTACH;FMTTYPE=image/jpeg:https://pucesd.edu.ec/wp-content/uploads/2025/04/Rendicion-de-cuentas-2024.jpeg
END:VEVENT
BEGIN:VEVENT
DTSTART;TZID=America/Guayaquil:20250406T080000
DTEND;TZID=America/Guayaquil:20250412T170000
DTSTAMP:20260419T155925
CREATED:20250331T151246Z
LAST-MODIFIED:20250407T203724Z
UID:38583-1743926400-1744477200@pucesd.edu.ec
SUMMARY:Curso de Simulación Clínica Básica
DESCRIPTION:INSCRIPCIÓN CURSO DE FORMACIÓN CONTINUA  \n\n\n\n\n Curso de Simulación Clínica Básica Fecha: 12 al 26 de abril de 2025 Horario: Sábados\, 8:00 – 13:00 Lugar: Centro de Simulación Clínica\n\n\n\n\n\nInscríbete aquí
URL:https://pucesd.edu.ec/agenda/curso-de-simulacion-clinica-basica/
CATEGORIES:evento
ATTACH;FMTTYPE=image/jpeg:https://pucesd.edu.ec/wp-content/uploads/2025/03/487976929_677965378246374_2149511697319326839_n.jpg
END:VEVENT
BEGIN:VEVENT
DTSTART;TZID=America/Guayaquil:20250331T080000
DTEND;TZID=America/Guayaquil:20250414T170000
DTSTAMP:20260419T155925
CREATED:20250331T152003Z
LAST-MODIFIED:20250331T152252Z
UID:38587-1743408000-1744650000@pucesd.edu.ec
SUMMARY:CURSO DE PRODUCCIÓN\, COSECHA Y CERTIFICACIÓN DEL CACAO
DESCRIPTION:💻 INSCRIPCIÓN CURSO DE FORMACIÓN CONTINUA \n\n\n\n\n🖍️Fecha de Inicio: 14/04/2025   🖍️Modalidad: Híbrido\n\n\n\n\n\nInscríbete aquí
URL:https://pucesd.edu.ec/agenda/curso-de-produccion-cosecha-y-certificacion-del-cacao/
CATEGORIES:evento
ATTACH;FMTTYPE=image/jpeg:https://pucesd.edu.ec/wp-content/uploads/2025/03/Curso-de-Produccion-Cosecha-y-Certificacion-del-Cacao.-2.jpg
END:VEVENT
BEGIN:VEVENT
DTSTART;TZID=America/Guayaquil:20250225T140000
DTEND;TZID=America/Guayaquil:20250225T180000
DTSTAMP:20260419T155925
CREATED:20250218T145732Z
LAST-MODIFIED:20250218T150224Z
UID:38332-1740492000-1740506400@pucesd.edu.ec
SUMMARY:Webinar
DESCRIPTION:¡No te pierdas este Webinar!  \n\n\n\n\n💡 Educación y Servicio: Impacto y Compromiso Comunitario 🤝📅 Martes\, 25 de febrero 2025🕒 14h00 – 18h00📍 Online🔹 Expertos en educación compartirán estrategias sobre aprendizaje\, diversidad y acción comunitaria.🎙 Ponentes: Ph.D. Yullio Cano\, Mgs. Guillermo Oñate SJ\, Mgs. Luis Vélez\, Mgs. Carlos Tobar.\n\n\n\n\n\nInscríbete aquí
URL:https://pucesd.edu.ec/agenda/webinar/
CATEGORIES:evento
ATTACH;FMTTYPE=image/jpeg:https://pucesd.edu.ec/wp-content/uploads/2025/02/480458115_642861878423391_4485775949916173921_n.jpg
END:VEVENT
BEGIN:VEVENT
DTSTART;TZID=America/Guayaquil:20250222T080000
DTEND;TZID=America/Guayaquil:20250322T170000
DTSTAMP:20260419T155925
CREATED:20250218T151105Z
LAST-MODIFIED:20250218T151106Z
UID:38339-1740211200-1742662800@pucesd.edu.ec
SUMMARY:📢 ¡Certificación en Auxiliar Contable! 🧾💼
DESCRIPTION:Cargo: Asistente Contable y Administrativa \n\n\n\n\n📅 Inicio: 22 de marzo de 2025🕒 Horario: Sábados de 08h00 a 13h00📍 Modalidad: Presencial | Laboratorio 1 – PUCESD🎓 Duración: 80 horas | Certificación digital💰 Inversión: $135🔖 Descuentos especiales:🎓 Alumni\, personal\, estudiantes\, convenios y discapacidad: $101\,25 (25%)🌐 Público externo: $114\,75 (15%)📌 Inscripciones hasta el 21 de marzo de 2025📞 Más información: 0962 614 040\n\n\n\n\n\nRegístrate aquí
URL:https://pucesd.edu.ec/agenda/%f0%9f%93%a2-certificacion-en-auxiliar-contable-%f0%9f%a7%be%f0%9f%92%bc/
CATEGORIES:evento
ATTACH;FMTTYPE=image/jpeg:https://pucesd.edu.ec/wp-content/uploads/2025/02/479520783_640631718646407_9049510190374079335_n.jpg
END:VEVENT
BEGIN:VEVENT
DTSTART;TZID=America/Guayaquil:20250220T080000
DTEND;TZID=America/Guayaquil:20250310T170000
DTSTAMP:20260419T155925
CREATED:20250220T165531Z
LAST-MODIFIED:20250220T165534Z
UID:38352-1740038400-1741626000@pucesd.edu.ec
SUMMARY:🔬✨ Certificación en Instrumentación Quirúrgica y Manejo de Quirófano 🏥📚
DESCRIPTION:Certificación \n\n\n\n\n📅 Inicio: 10 de marzo de 2025⏳ Duración: 160 horas (100h prácticas internas + 60h externas)🖥️ Modalidad: Híbrida📆 Inscripciones hasta: 10 de marzo de 2025⏰ Horario: Lunes y miércoles\, 18h00 – 22h00💰 Inversión: $300 (con descuentos de hasta el 25%)📞 Más info: 095 946 3539\n\n\n\n\n\nInscríbete aquí:
URL:https://pucesd.edu.ec/agenda/%f0%9f%94%ac%e2%9c%a8-certificacion-en-instrumentacion-quirurgica-y-manejo-de-quirofano-%f0%9f%8f%a5%f0%9f%93%9a/
CATEGORIES:evento
ATTACH;FMTTYPE=image/jpeg:https://pucesd.edu.ec/wp-content/uploads/2025/02/480800285_644241881618724_3503953807454028813_n.jpg
END:VEVENT
BEGIN:VEVENT
DTSTART;TZID=America/Guayaquil:20250220T080000
DTEND;TZID=America/Guayaquil:20250307T170000
DTSTAMP:20260419T155925
CREATED:20250220T165003Z
LAST-MODIFIED:20250220T165005Z
UID:38348-1740038400-1741366800@pucesd.edu.ec
SUMMARY:Curso Gratuito de Enfermería
DESCRIPTION:¡Descubre tu vocación en el mundo de la enfermería!  \n\n\n\n\n📅 Fecha: 07 de marzo de 2025⏰ Hora: 10h00 a 12h30📍 Lugar: PUCE Santo Domingo\n\n\n\n\n\nInscríbete aquí:
URL:https://pucesd.edu.ec/agenda/curso-gratuito-de-enfermeria/
CATEGORIES:evento
ATTACH;FMTTYPE=image/jpeg:https://pucesd.edu.ec/wp-content/uploads/2025/02/480630279_644313084944937_8330560362338779591_n.jpg
END:VEVENT
BEGIN:VEVENT
DTSTART;TZID=America/Guayaquil:20250217T080000
DTEND;TZID=America/Guayaquil:20250224T170000
DTSTAMP:20260419T155925
CREATED:20250218T153412Z
LAST-MODIFIED:20250218T153413Z
UID:38344-1739779200-1740416400@pucesd.edu.ec
SUMMARY:📊 ¡Domina Excel en el área de la salud! 🏥💻
DESCRIPTION:Cargo: Asistente Contable y Administrativa \n\n\n\n\n📅 Fecha: 24 de febrero – 19 de marzo🕕 Horario: Lunes\, miércoles y viernes | 18h00 – 20h00📍 Lugar: Laboratorio 1 PUCE Santo Domingo💰 Costo: Desde $60 con descuentos📝 Inscripciones abiertas hasta el 21/02/2025📞 Más info: 093 966 4867\n\n\n\n\n\nInscríbete aquí:
URL:https://pucesd.edu.ec/agenda/%f0%9f%93%8a-domina-excel-en-el-area-de-la-salud-%f0%9f%8f%a5%f0%9f%92%bb/
CATEGORIES:evento
ATTACH;FMTTYPE=image/jpeg:https://pucesd.edu.ec/wp-content/uploads/2025/02/476560069_635463932496519_5905066892596795069_n.jpg
END:VEVENT
BEGIN:VEVENT
DTSTART;TZID=America/Guayaquil:20250211T080000
DTEND;TZID=America/Guayaquil:20250228T170000
DTSTAMP:20260419T155925
CREATED:20250212T175654Z
LAST-MODIFIED:20250212T175911Z
UID:38312-1739260800-1740762000@pucesd.edu.ec
SUMMARY:Oferta de empleo
DESCRIPTION:Cargo: Asistente Contable y Administrativa \n\n\n\n\nVacantes: 1\n\n\n\n\n\nPostula enviando tu CV
URL:https://pucesd.edu.ec/agenda/oferta-de-empleo/
CATEGORIES:evento
ATTACH;FMTTYPE=image/png:https://pucesd.edu.ec/wp-content/uploads/2025/02/OFERTA_EMPLEO_LA-PONDEROSA-2.png
END:VEVENT
BEGIN:VEVENT
DTSTART;TZID=America/Guayaquil:20250128T080000
DTEND;TZID=America/Guayaquil:20250212T170000
DTSTAMP:20260419T155925
CREATED:20250128T132011Z
LAST-MODIFIED:20250128T132011Z
UID:38174-1738051200-1739379600@pucesd.edu.ec
SUMMARY:¡Inscríbete en los exámenes de inglés!
DESCRIPTION:¡Inscríbete en los exámenes de inglés! \n\n\n\n\nFechas:General Test: 10 y 14 de febreroSpeaking Test: 14 de febrero\n\n\n\n\n\nInscríbete
URL:https://pucesd.edu.ec/agenda/inscribete-en-los-examenes-de-ingles/
CATEGORIES:evento
ATTACH;FMTTYPE=image/jpeg:https://pucesd.edu.ec/wp-content/uploads/2025/01/475162824_627741576602088_9159917318155790404_n.jpg
END:VEVENT
BEGIN:VEVENT
DTSTART;TZID=America/Guayaquil:20250128T080000
DTEND;TZID=America/Guayaquil:20250211T170000
DTSTAMP:20260419T155925
CREATED:20250128T132835Z
LAST-MODIFIED:20250128T132836Z
UID:38184-1738051200-1739293200@pucesd.edu.ec
SUMMARY:Segundo curso de Admisión para la Carrera de Medicina 🩺.
DESCRIPTION:¡Empieza tu camino hacia la Medicina! \n\n\n\n\nSegundo curso de Admisión para la Carrera de Medicina 🩺.✅ Modalidad: Presencial🕒 Duración: 100 horas📅 Fecha: Del 18 de febrero al 25 de marzo de 2025⏰ Horario: Lunes a viernes\, de 15:00 a 19:00\n\n\n\n\n\nInscríbete aquí
URL:https://pucesd.edu.ec/agenda/segundo-curso-de-admision-para-la-carrera-de-medicina-%f0%9f%a9%ba/
CATEGORIES:evento
ATTACH;FMTTYPE=image/jpeg:https://pucesd.edu.ec/wp-content/uploads/2025/01/474728862_625424170167162_1697943968116050295_n.jpg
END:VEVENT
BEGIN:VEVENT
DTSTART;TZID=America/Guayaquil:20250122T080000
DTEND;TZID=America/Guayaquil:20250430T170000
DTSTAMP:20260419T155925
CREATED:20250106T192031Z
LAST-MODIFIED:20250416T213533Z
UID:38036-1737532800-1746032400@pucesd.edu.ec
SUMMARY:Examen de admisión | Carreras de Grado
DESCRIPTION:Examen de admisión | Carreras de grado  \n\n\n\n\n\n\n\n\n\n\nMás información aquí
URL:https://pucesd.edu.ec/agenda/examen-de-admision-grado/
CATEGORIES:evento
ATTACH;FMTTYPE=image/jpeg:https://pucesd.edu.ec/wp-content/uploads/2025/01/ig_01.jpg
END:VEVENT
BEGIN:VEVENT
DTSTART;TZID=America/Guayaquil:20250121T140000
DTEND;TZID=America/Guayaquil:20250121T160000
DTSTAMP:20260419T155925
CREATED:20250121T140105Z
LAST-MODIFIED:20250121T140458Z
UID:38096-1737468000-1737475200@pucesd.edu.ec
SUMMARY:Flash Talks
DESCRIPTION:Información \n\n\n\n\nÚnete a Flash Talks y descubre cómo la tecnología y la inteligencia artificial están transformando el mundo de la salud.🗓 Fecha: Viernes 31 de enero⏰ Hora: 14h00 – 16h00📍 Lugar: Auditorio Alfa\, PUCE Santo Domingo\n\n\n\n\n\nEncuéntralos aquí
URL:https://pucesd.edu.ec/agenda/flash-talks/
CATEGORIES:evento
ATTACH;FMTTYPE=image/jpeg:https://pucesd.edu.ec/wp-content/uploads/2025/01/474460673_622768940432685_6285907383249714713_n.jpg
END:VEVENT
BEGIN:VEVENT
DTSTART;TZID=America/Guayaquil:20250121T080000
DTEND;TZID=America/Guayaquil:20250129T170000
DTSTAMP:20260419T155925
CREATED:20241204T203127Z
LAST-MODIFIED:20250121T144326Z
UID:37950-1737446400-1738170000@pucesd.edu.ec
SUMMARY:Inscripciones abiertas para PUCETEC
DESCRIPTION:Información \n\n\n\n\nFecha: 29 de enero de 2025\n\n\n\n\n\nInscripciones aquí
URL:https://pucesd.edu.ec/agenda/inscripciones-abiertas-para-pucetec/
CATEGORIES:evento
ATTACH;FMTTYPE=image/jpeg:https://pucesd.edu.ec/wp-content/uploads/2024/12/thumbnail_TEC_01.jpg
END:VEVENT
BEGIN:VEVENT
DTSTART;TZID=America/Guayaquil:20250112T090000
DTEND;TZID=America/Guayaquil:20250112T180000
DTSTAMP:20260419T155925
CREATED:20250110T205913Z
LAST-MODIFIED:20250110T205913Z
UID:38050-1736672400-1736704800@pucesd.edu.ec
SUMMARY:Bootcamp | PUCESD Emprende
DESCRIPTION:Bootcamp | PUCESD Emprende  \n\n\n\n\n Martes 14 de enero Desde las 09:00 a.m. Aula Magna de la PUCESD Invitado especial:Ing. Carlos Fabara\, representante de HDL en América Latina\, compartirá conocimientos prácticos y teóricos para abordar los desafíos actuales en entornos colaborativos y en constante cambio.\n\n\n\n\n\n¡Inscríbete aquí!
URL:https://pucesd.edu.ec/agenda/bootcamp-pucesd-emprende/
CATEGORIES:evento
ATTACH;FMTTYPE=image/jpeg:https://pucesd.edu.ec/wp-content/uploads/2025/01/473388905_615799071129672_8845042681491432718_n.jpg
END:VEVENT
BEGIN:VEVENT
DTSTART;TZID=America/Guayaquil:20250110T090000
DTEND;TZID=America/Guayaquil:20250110T103000
DTSTAMP:20260419T155925
CREATED:20250109T204311Z
LAST-MODIFIED:20250109T204312Z
UID:38046-1736499600-1736505000@pucesd.edu.ec
SUMMARY:Inauguración de la 𝐂𝐚́𝐭𝐞𝐝𝐫𝐚 𝐅𝐞𝐫𝐧𝐚𝐧𝐝𝐨 𝐑𝐢𝐞𝐥𝐨
DESCRIPTION:Inauguración de la 𝐂𝐚́𝐭𝐞𝐝𝐫𝐚 𝐅𝐞𝐫𝐧𝐚𝐧𝐝𝐨 𝐑𝐢𝐞𝐥𝐨 \n\n\n\n\n Invitados especiales:𝐃𝐫. 𝐋𝐮𝐢𝐬 𝐂𝐚𝐬𝐚𝐬𝐮́𝐬𝐃𝐫𝐚. 𝐉𝐮𝐚𝐧𝐚 𝐒𝐚́𝐧𝐜𝐡𝐞𝐳-𝐆𝐞𝐲 Fecha: Viernes 10 de enero de 2025 Lugar: Aula Fernando Rielo Hora: 09h00 – 10h30\n\n\n\n\n\nMás información
URL:https://pucesd.edu.ec/agenda/inauguracion-de-la-%f0%9d%90%82%f0%9d%90%9a%f0%9d%90%ad%f0%9d%90%9e%f0%9d%90%9d%f0%9d%90%ab%f0%9d%90%9a-%f0%9d%90%85%f0%9d%90%9e%f0%9d%90%ab%f0%9d%90%a7%f0%9d%90%9a%f0%9d%90%a7%f0%9d%90%9d/
CATEGORIES:evento
ATTACH;FMTTYPE=image/jpeg:https://pucesd.edu.ec/wp-content/uploads/2025/01/472716121_615071177869128_2767911147598959796_n.jpg
END:VEVENT
BEGIN:VEVENT
DTSTART;TZID=America/Guayaquil:20250106T080000
DTEND;TZID=America/Guayaquil:20250115T170000
DTSTAMP:20260419T155925
CREATED:20250106T192648Z
LAST-MODIFIED:20250106T192648Z
UID:38040-1736150400-1736960400@pucesd.edu.ec
SUMMARY:Examen de admisión | PUCETEC
DESCRIPTION:Examen de admisión |  PUCETEC \n\n\n\n\nFecha: 15 de enero de 2025\n\n\n\n\n\nMás información aquí
URL:https://pucesd.edu.ec/agenda/examen-de-admision-pucetec/
CATEGORIES:evento
ATTACH;FMTTYPE=image/jpeg:https://pucesd.edu.ec/wp-content/uploads/2025/01/TEC_01.jpg
END:VEVENT
BEGIN:VEVENT
DTSTART;TZID=America/Guayaquil:20250101T080000
DTEND;TZID=America/Guayaquil:20250102T170000
DTSTAMP:20260419T155925
CREATED:20241125T144636Z
LAST-MODIFIED:20250611T134910Z
UID:37918-1735718400-1735837200@pucesd.edu.ec
SUMMARY:Identidad Visual de la PUCESD
DESCRIPTION:Documentos Institucionales \n\n\n\n\nTe compartimos documentos para fortalecer nuestra comunidad educativa y promover la transparencia institucional.\n\n\n\n\n\nEncuéntralos aquí
URL:https://pucesd.edu.ec/agenda/identidad-visual-de-la-pucesd/
CATEGORIES:evento
ATTACH;FMTTYPE=image/png:https://pucesd.edu.ec/wp-content/uploads/2024/11/01-CARTEL-IDENTIDAD-VISUAL.png
END:VEVENT
BEGIN:VEVENT
DTSTART;TZID=America/Guayaquil:20241210T080000
DTEND;TZID=America/Guayaquil:20241220T170000
DTSTAMP:20260419T155925
CREATED:20241205T132058Z
LAST-MODIFIED:20241205T132058Z
UID:37956-1733817600-1734714000@pucesd.edu.ec
SUMMARY:PROGRAMACIÓN NAVIDEÑA PUCE SD 2024
DESCRIPTION:Información \n\n\n\n\nFecha: Del 10 a 20 de diciembre de 2025 Lugar: Atrium PUCESD
URL:https://pucesd.edu.ec/agenda/programacion-navidena-puce-sd-2024/
CATEGORIES:evento
ATTACH;FMTTYPE=image/png:https://pucesd.edu.ec/wp-content/uploads/2024/12/programa-1.png
END:VEVENT
BEGIN:VEVENT
DTSTART;TZID=America/Guayaquil:20241206T080000
DTEND;TZID=America/Guayaquil:20241229T170000
DTSTAMP:20260419T155925
CREATED:20241205T141534Z
LAST-MODIFIED:20241206T160609Z
UID:37962-1733472000-1735491600@pucesd.edu.ec
SUMMARY:Trabaja con nosotros
DESCRIPTION:Información \n\n\n\n\nConvocatoria abierta para Docentes a Tiempo CompletoPlazo de postulación: Hasta las 23h59 del domingo\, 29 de diciembre de 2024.\n\n\n\n\n\nPostula aquí
URL:https://pucesd.edu.ec/agenda/trabaja-con-nosotros-2/
CATEGORIES:evento
ATTACH;FMTTYPE=image/png:https://pucesd.edu.ec/wp-content/uploads/2024/12/02_TC.png
END:VEVENT
BEGIN:VEVENT
DTSTART;TZID=America/Guayaquil:20241206T080000
DTEND;TZID=America/Guayaquil:20241211T170000
DTSTAMP:20260419T155925
CREATED:20241206T161102Z
LAST-MODIFIED:20241206T161105Z
UID:37981-1733472000-1733936400@pucesd.edu.ec
SUMMARY:Gran Campeonato Intercarreras PUCESD 2024
DESCRIPTION:Información \n\n\n\n\n Inscripciones abiertas hasta el 11 de diciembre de 2024 Fútbol masculino |  Fútbol femenino |  Baloncesto\n\n\n\n\n\nInscripciones aquí
URL:https://pucesd.edu.ec/agenda/gran-campeonato-intercarreras-pucesd-2024/
CATEGORIES:evento
ATTACH;FMTTYPE=image/jpeg:https://pucesd.edu.ec/wp-content/uploads/2024/12/469291367_590340767008836_2975591980071262706_n.jpg
END:VEVENT
BEGIN:VEVENT
DTSTART;TZID=America/Guayaquil:20241205T173000
DTEND;TZID=America/Guayaquil:20241205T183000
DTSTAMP:20260419T155925
CREATED:20241204T194045Z
LAST-MODIFIED:20241204T194045Z
UID:37944-1733419800-1733423400@pucesd.edu.ec
SUMMARY:Eucaristía al cumplirse 20 años del tránsito al cielo de Fernando Rielo Pardal
DESCRIPTION:Información \n\n\n\n\nFecha: 05-12-2024 Lugar: Aula Magna  Hora: 16h30
URL:https://pucesd.edu.ec/agenda/eucaristia-al-cumplirse-20-anos-del-transito-al-cielo-de-fernando-rielo-pardal/
CATEGORIES:evento
ATTACH;FMTTYPE=image/jpeg:https://pucesd.edu.ec/wp-content/uploads/2024/12/01_transito_fernando-rielo.jpg
END:VEVENT
BEGIN:VEVENT
DTSTART;TZID=America/Guayaquil:20241205T080000
DTEND;TZID=America/Guayaquil:20241229T170000
DTSTAMP:20260419T155925
CREATED:20241205T142125Z
LAST-MODIFIED:20241205T142126Z
UID:37965-1733385600-1735491600@pucesd.edu.ec
SUMMARY:Trabaja con nosotros
DESCRIPTION:Información \n\n\n\n\nConvocatoria abierta para docente a tiempo parcialPlazo de postulación: Hasta las 23h59 del domingo\, 29 de diciembre de 2024\n\n\n\n\n\nPostula aquí
URL:https://pucesd.edu.ec/agenda/trabaja-con-nosotros-3/
CATEGORIES:evento
ATTACH;FMTTYPE=image/png:https://pucesd.edu.ec/wp-content/uploads/2024/12/01_TP.png
END:VEVENT
BEGIN:VEVENT
DTSTART;TZID=America/Guayaquil:20241205T080000
DTEND;TZID=America/Guayaquil:20241229T170000
DTSTAMP:20260419T155925
CREATED:20241205T140416Z
LAST-MODIFIED:20241205T140417Z
UID:37959-1733385600-1735491600@pucesd.edu.ec
SUMMARY:Trabaja con nosotros
DESCRIPTION:Información \n\n\n\n\n Convocatoria abierta para Coordinador/a de las carreras y programas de Ciencias de la Salud Plazo de postulación: Hasta las 23h59 del domingo\, 29 de diciembre de 2024\n\n\n\n\n\nPostula aquí
URL:https://pucesd.edu.ec/agenda/trabaja-con-nosotros/
CATEGORIES:evento
ATTACH;FMTTYPE=image/png:https://pucesd.edu.ec/wp-content/uploads/2024/12/03_COORD_SALUD.png
END:VEVENT
BEGIN:VEVENT
DTSTART;TZID=America/Guayaquil:20241204T080000
DTEND;TZID=America/Guayaquil:20250207T170000
DTSTAMP:20260419T155925
CREATED:20241204T195205Z
LAST-MODIFIED:20241204T195205Z
UID:37947-1733299200-1738947600@pucesd.edu.ec
SUMMARY:Postulación de Becas
DESCRIPTION:Información \n\n\n\n\n Postulación abierta hasta el 07 de febrero de 2025Mensajería por WhatsAppCorreo: becas@pucesd.edu.ec\n\n\n\n\n\nPostula aquí
URL:https://pucesd.edu.ec/agenda/postulacion-de-becas/
CATEGORIES:evento
ATTACH;FMTTYPE=image/jpeg:https://pucesd.edu.ec/wp-content/uploads/2024/12/thumbnail_03.jpg
END:VEVENT
BEGIN:VEVENT
DTSTART;TZID=America/Guayaquil:20241204T080000
DTEND;TZID=America/Guayaquil:20241219T170000
DTSTAMP:20260419T155925
CREATED:20241204T203700Z
LAST-MODIFIED:20241204T203706Z
UID:37953-1733299200-1734627600@pucesd.edu.ec
SUMMARY:DONACIÓN NAVIDEÑA 2024
DESCRIPTION:Información \n\n\n\n\n🏥 Lugar de recepción: EdificioIgnacio de Loyola\, oficina MMUU.⏰ Horario: de 08:00 a 13:00 y de 15:00 a 19:00🎄 Navidad tiempo de compartir\,puedes donar:               Juguetes: Los juguetes deben estaren buen estado                 Papelería: Material didáctico.                 Alimentos no perecederos: Sereciben hasta el 16-Diciembre-2024Alimentos perecederos: Debenser entregados el 19-Diciembre-2024
URL:https://pucesd.edu.ec/agenda/donacion-navidena-2024/
CATEGORIES:evento
ATTACH;FMTTYPE=image/png:https://pucesd.edu.ec/wp-content/uploads/2024/12/02_navidad_2024_DONACIONES-1.png
END:VEVENT
BEGIN:VEVENT
DTSTART;TZID=America/Guayaquil:20241201T100000
DTEND;TZID=America/Guayaquil:20241201T120000
DTSTAMP:20260419T155925
CREATED:20241128T170209Z
LAST-MODIFIED:20241128T170217Z
UID:37936-1733047200-1733054400@pucesd.edu.ec
SUMMARY:PRIMER DOMINGO DE ADVIENTO
DESCRIPTION:Información \n\n\n\n\nAgenda del día:🛐 10H00 Misa🤵  11H00 Conversatorio sobre las Misiones Identes en Bolivia⛪ Lugar: Capilla de la PUCESD
URL:https://pucesd.edu.ec/agenda/primer-domingo-de-adviento/
CATEGORIES:evento
ATTACH;FMTTYPE=image/png:https://pucesd.edu.ec/wp-content/uploads/2024/11/thumbnail_image.png
END:VEVENT
BEGIN:VEVENT
DTSTART;TZID=America/Guayaquil:20241129T170000
DTEND;TZID=America/Guayaquil:20241129T180000
DTSTAMP:20260419T155925
CREATED:20241129T205156Z
LAST-MODIFIED:20241129T205156Z
UID:37940-1732899600-1732903200@pucesd.edu.ec
SUMMARY:Día contra el VIH
DESCRIPTION:Información_Día contra el VIH \n\n\n\n\nFecha: Inscripciones abiertas hasta el 3 de enero de 2025 Lugar: PUCESD Horario: 17h00
URL:https://pucesd.edu.ec/agenda/dia-contra-el-vih/
CATEGORIES:evento
ATTACH;FMTTYPE=image/png:https://pucesd.edu.ec/wp-content/uploads/2024/11/DIA-DEL-VIH.png
END:VEVENT
BEGIN:VEVENT
DTSTART;TZID=America/Guayaquil:20241126T173000
DTEND;TZID=America/Guayaquil:20241127T200000
DTSTAMP:20260419T155925
CREATED:20241120T151849Z
LAST-MODIFIED:20241125T171551Z
UID:37865-1732642200-1732737600@pucesd.edu.ec
SUMMARY:Semana de Contador
DESCRIPTION:Información \n\n\n\n\nFecha: del 26 al 27 de noviembre de 2024 Lugar: Auditorios de la PUCESD Hora: de 17h30 a 20h00
URL:https://pucesd.edu.ec/agenda/semana-de-contador/
CATEGORIES:evento
ATTACH;FMTTYPE=image/png:https://pucesd.edu.ec/wp-content/uploads/2024/11/CON-1-1.png
END:VEVENT
END:VCALENDAR