BEGIN:VCALENDAR
VERSION:2.0
PRODID:-//Pontificia Universidad Católica del Ecuador sede Santo Domingo - ECPv6.15.20//NONSGML v1.0//EN
CALSCALE:GREGORIAN
METHOD:PUBLISH
X-WR-CALNAME:Pontificia Universidad Católica del Ecuador sede Santo Domingo
X-ORIGINAL-URL:https://pucesd.edu.ec
X-WR-CALDESC:Eventos para Pontificia Universidad Católica del Ecuador sede Santo Domingo
REFRESH-INTERVAL;VALUE=DURATION:PT1H
X-Robots-Tag:noindex
X-PUBLISHED-TTL:PT1H
BEGIN:VTIMEZONE
TZID:America/Guayaquil
BEGIN:STANDARD
TZOFFSETFROM:-0500
TZOFFSETTO:-0500
TZNAME:-05
DTSTART:20230101T000000
END:STANDARD
END:VTIMEZONE
BEGIN:VEVENT
DTSTART;TZID=America/Guayaquil:20241205T080000
DTEND;TZID=America/Guayaquil:20241229T170000
DTSTAMP:20260419T191926
CREATED:20241205T140416Z
LAST-MODIFIED:20241205T140417Z
UID:37959-1733385600-1735491600@pucesd.edu.ec
SUMMARY:Trabaja con nosotros
DESCRIPTION:Información \n\n\n\n\n Convocatoria abierta para Coordinador/a de las carreras y programas de Ciencias de la Salud Plazo de postulación: Hasta las 23h59 del domingo\, 29 de diciembre de 2024\n\n\n\n\n\nPostula aquí
URL:https://pucesd.edu.ec/agenda/trabaja-con-nosotros/
CATEGORIES:evento
ATTACH;FMTTYPE=image/png:https://pucesd.edu.ec/wp-content/uploads/2024/12/03_COORD_SALUD.png
END:VEVENT
BEGIN:VEVENT
DTSTART;TZID=America/Guayaquil:20241204T080000
DTEND;TZID=America/Guayaquil:20250207T170000
DTSTAMP:20260419T191926
CREATED:20241204T195205Z
LAST-MODIFIED:20241204T195205Z
UID:37947-1733299200-1738947600@pucesd.edu.ec
SUMMARY:Postulación de Becas
DESCRIPTION:Información \n\n\n\n\n Postulación abierta hasta el 07 de febrero de 2025Mensajería por WhatsAppCorreo: becas@pucesd.edu.ec\n\n\n\n\n\nPostula aquí
URL:https://pucesd.edu.ec/agenda/postulacion-de-becas/
CATEGORIES:evento
ATTACH;FMTTYPE=image/jpeg:https://pucesd.edu.ec/wp-content/uploads/2024/12/thumbnail_03.jpg
END:VEVENT
BEGIN:VEVENT
DTSTART;TZID=America/Guayaquil:20241204T080000
DTEND;TZID=America/Guayaquil:20241219T170000
DTSTAMP:20260419T191926
CREATED:20241204T203700Z
LAST-MODIFIED:20241204T203706Z
UID:37953-1733299200-1734627600@pucesd.edu.ec
SUMMARY:DONACIÓN NAVIDEÑA 2024
DESCRIPTION:Información \n\n\n\n\n🏥 Lugar de recepción: EdificioIgnacio de Loyola\, oficina MMUU.⏰ Horario: de 08:00 a 13:00 y de 15:00 a 19:00🎄 Navidad tiempo de compartir\,puedes donar:               Juguetes: Los juguetes deben estaren buen estado                 Papelería: Material didáctico.                 Alimentos no perecederos: Sereciben hasta el 16-Diciembre-2024Alimentos perecederos: Debenser entregados el 19-Diciembre-2024
URL:https://pucesd.edu.ec/agenda/donacion-navidena-2024/
CATEGORIES:evento
ATTACH;FMTTYPE=image/png:https://pucesd.edu.ec/wp-content/uploads/2024/12/02_navidad_2024_DONACIONES-1.png
END:VEVENT
BEGIN:VEVENT
DTSTART;TZID=America/Guayaquil:20241201T100000
DTEND;TZID=America/Guayaquil:20241201T120000
DTSTAMP:20260419T191926
CREATED:20241128T170209Z
LAST-MODIFIED:20241128T170217Z
UID:37936-1733047200-1733054400@pucesd.edu.ec
SUMMARY:PRIMER DOMINGO DE ADVIENTO
DESCRIPTION:Información \n\n\n\n\nAgenda del día:🛐 10H00 Misa🤵  11H00 Conversatorio sobre las Misiones Identes en Bolivia⛪ Lugar: Capilla de la PUCESD
URL:https://pucesd.edu.ec/agenda/primer-domingo-de-adviento/
CATEGORIES:evento
ATTACH;FMTTYPE=image/png:https://pucesd.edu.ec/wp-content/uploads/2024/11/thumbnail_image.png
END:VEVENT
BEGIN:VEVENT
DTSTART;TZID=America/Guayaquil:20241129T170000
DTEND;TZID=America/Guayaquil:20241129T180000
DTSTAMP:20260419T191926
CREATED:20241129T205156Z
LAST-MODIFIED:20241129T205156Z
UID:37940-1732899600-1732903200@pucesd.edu.ec
SUMMARY:Día contra el VIH
DESCRIPTION:Información_Día contra el VIH \n\n\n\n\nFecha: Inscripciones abiertas hasta el 3 de enero de 2025 Lugar: PUCESD Horario: 17h00
URL:https://pucesd.edu.ec/agenda/dia-contra-el-vih/
CATEGORIES:evento
ATTACH;FMTTYPE=image/png:https://pucesd.edu.ec/wp-content/uploads/2024/11/DIA-DEL-VIH.png
END:VEVENT
BEGIN:VEVENT
DTSTART;TZID=America/Guayaquil:20241126T173000
DTEND;TZID=America/Guayaquil:20241127T200000
DTSTAMP:20260419T191926
CREATED:20241120T151849Z
LAST-MODIFIED:20241125T171551Z
UID:37865-1732642200-1732737600@pucesd.edu.ec
SUMMARY:Semana de Contador
DESCRIPTION:Información \n\n\n\n\nFecha: del 26 al 27 de noviembre de 2024 Lugar: Auditorios de la PUCESD Hora: de 17h30 a 20h00
URL:https://pucesd.edu.ec/agenda/semana-de-contador/
CATEGORIES:evento
ATTACH;FMTTYPE=image/png:https://pucesd.edu.ec/wp-content/uploads/2024/11/CON-1-1.png
END:VEVENT
BEGIN:VEVENT
DTSTART;TZID=America/Guayaquil:20241126T110000
DTEND;TZID=America/Guayaquil:20241127T190000
DTSTAMP:20260419T191926
CREATED:20241126T192804Z
LAST-MODIFIED:20241126T192806Z
UID:37933-1732618800-1732734000@pucesd.edu.ec
SUMMARY:Encuentros Universidad y Vida
DESCRIPTION:Información \n\n\n\n\nFecha: 25 al 27 de noviembre 2024 Lugar: Auditorios Omega
URL:https://pucesd.edu.ec/agenda/encuentros-universidad-y-vida/
CATEGORIES:evento
ATTACH;FMTTYPE=image/png:https://pucesd.edu.ec/wp-content/uploads/2024/11/123456.png
END:VEVENT
BEGIN:VEVENT
DTSTART;TZID=America/Guayaquil:20241125T080000
DTEND;TZID=America/Guayaquil:20241218T170000
DTSTAMP:20260419T191926
CREATED:20241125T150055Z
LAST-MODIFIED:20241125T150058Z
UID:37925-1732521600-1734541200@pucesd.edu.ec
SUMMARY:Inscripciones para el primer período 2025
DESCRIPTION:Información \n\n\n\n\nFecha: 18 de diciembre de 2024 Lugar: PUCESD\n\n\n\n\n\nInscripciones aquí
URL:https://pucesd.edu.ec/agenda/inscripciones-para-el-primer-periodo-2025/
CATEGORIES:evento
ATTACH;FMTTYPE=image/jpeg:https://pucesd.edu.ec/wp-content/uploads/2024/11/ig_01.jpg
END:VEVENT
BEGIN:VEVENT
DTSTART;TZID=America/Guayaquil:20241125T080000
DTEND;TZID=America/Guayaquil:20241129T130000
DTSTAMP:20260419T191926
CREATED:20241120T150548Z
LAST-MODIFIED:20241120T150609Z
UID:37860-1732521600-1732885200@pucesd.edu.ec
SUMMARY:Curso: Antropología e Investigación Social para programas de intervención en Salud Comunitaria_CEDIA
DESCRIPTION:Información \n\n\n\n\nFecha: del 25 al 29 de noviembre de 2024 Lugar: Aula Magna Hora: de 08h00 a 13h00
URL:https://pucesd.edu.ec/agenda/curso-antropologia-e-investigacion-social-para-programas-de-intervencion-en-salud-comunitaria/
CATEGORIES:evento
ATTACH;FMTTYPE=image/jpeg:https://pucesd.edu.ec/wp-content/uploads/2024/11/WhatsApp-Image-2024-11-18-at-4.53.12-PM.jpeg
END:VEVENT
BEGIN:VEVENT
DTSTART;TZID=America/Guayaquil:20241124T100000
DTEND;TZID=America/Guayaquil:20241124T130000
DTSTAMP:20260419T191926
CREATED:20241121T162326Z
LAST-MODIFIED:20241121T162329Z
UID:37907-1732442400-1732453200@pucesd.edu.ec
SUMMARY:Encuentro de Familia Idente
DESCRIPTION:Información \n\n\n\n\nFecha: domingo 24 de noviembre de 2024 Horario: de 10h00 a 13h00 Lugar: Capilla PUCESD
URL:https://pucesd.edu.ec/agenda/encuentro-de-familia-idente/
CATEGORIES:evento
ATTACH;FMTTYPE=image/jpeg:https://pucesd.edu.ec/wp-content/uploads/2024/11/WhatsApp-Image-2024-11-20-at-3.21.35-PM.jpeg
END:VEVENT
BEGIN:VEVENT
DTSTART;TZID=America/Guayaquil:20241122T100000
DTEND;TZID=America/Guayaquil:20241122T130000
DTSTAMP:20260419T191926
CREATED:20241121T155857Z
LAST-MODIFIED:20241121T160047Z
UID:37903-1732269600-1732280400@pucesd.edu.ec
SUMMARY:Fútbol universitario amistoso
DESCRIPTION:Información \n\n\n\n\nFecha: 22 de noviembre de 2024 Lugar: Estadio PUCESD Hora: de 10h00 a 12h00
URL:https://pucesd.edu.ec/agenda/futbol-universitario-amistoso/
CATEGORIES:evento
ATTACH;FMTTYPE=image/png:https://pucesd.edu.ec/wp-content/uploads/2024/11/456789.png
END:VEVENT
BEGIN:VEVENT
DTSTART;TZID=America/Guayaquil:20241122T080000
DTEND;TZID=America/Guayaquil:20241215T170000
DTSTAMP:20260419T191926
CREATED:20241122T135032Z
LAST-MODIFIED:20241122T135136Z
UID:37912-1732262400-1734282000@pucesd.edu.ec
SUMMARY:Concurso de fotografía | Estudiantes de Laboratorio Clínico
DESCRIPTION:Información \n\n\n\n\nFecha límite para subir las fotos: 15 de diciembre de 2024Temática: Fotografías relacionadas con prácticas de laboratorio o clases\, ambientadas con temática navideña  \n\n\n\n\n\nCargar las fotografías aquí:
URL:https://pucesd.edu.ec/agenda/concurso-de-fotografia-estudiantes-de-laboratorio-clinico/
CATEGORIES:evento
ATTACH;FMTTYPE=image/jpeg:https://pucesd.edu.ec/wp-content/uploads/2024/11/01_CONCURSO_FOTO.jpg
END:VEVENT
BEGIN:VEVENT
DTSTART;TZID=America/Guayaquil:20241121T080000
DTEND;TZID=America/Guayaquil:20250103T170000
DTSTAMP:20260419T191926
CREATED:20241121T141752Z
LAST-MODIFIED:20241121T212459Z
UID:37899-1732176000-1735923600@pucesd.edu.ec
SUMMARY:Curso de Admisión para la Carrera de Medicina
DESCRIPTION:Información \n\n\n\n\nFecha: Inscripciones abiertas hasta el 3 de enero de 2025 Lugar: PUCESD Horario: Lunes a viernes\, de 15:00 a 19:00\n\n\n\n\n\nInscripciones aquí
URL:https://pucesd.edu.ec/agenda/curso-de-admision-para-la-carrera-de-medicina/
CATEGORIES:evento
ATTACH;FMTTYPE=image/jpeg:https://pucesd.edu.ec/wp-content/uploads/2024/11/467865587_581129344596645_9026675843380400945_n.jpg
END:VEVENT
BEGIN:VEVENT
DTSTART;TZID=America/Guayaquil:20241120T100000
DTEND;TZID=America/Guayaquil:20241121T190000
DTSTAMP:20260419T191926
CREATED:20241120T154330Z
LAST-MODIFIED:20241120T154330Z
UID:37869-1732096800-1732215600@pucesd.edu.ec
SUMMARY:TUTORÍAS INICIALES:CAMINO HACIA LA EXCELENCIA
DESCRIPTION:Información \n\n\n\n\nFecha: del 20 al 21 de noviembre de 2024 Lugar: Paseo de las rosas Hora: de 10h00 a 12h00 y de 16h00 a 19h00
URL:https://pucesd.edu.ec/agenda/tutorias-inicialescamino-hacia-la-excelencia/
CATEGORIES:evento
ATTACH;FMTTYPE=image/jpeg:https://pucesd.edu.ec/wp-content/uploads/2024/11/WhatsApp-Image-2024-11-20-at-10.42.36-AM.jpeg
END:VEVENT
BEGIN:VEVENT
DTSTART;TZID=America/Guayaquil:20241115T080000
DTEND;TZID=America/Guayaquil:20241116T170000
DTSTAMP:20260419T191926
CREATED:20240715T115919Z
LAST-MODIFIED:20241007T160724Z
UID:35591-1731657600-1731776400@pucesd.edu.ec
SUMMARY:I Jornadas Iberoamericanas de Bioética
DESCRIPTION:Información \n\n\n\n\nJueves 14 y viernes 15 de noviembre de 2024\n\n\n\nDe 08h00 a 17h00\n\n\n\nIngresar el lugar\n\n\n\n Vía a Chone Km. 2 y San Cristóbal\n\n\n\nOrganiza: Nombre y contacto\n\n\n\n\n\nInscríbete\n\n\n\n\nDescripción \n\n\n\nPromover en Ecuador y en Iberoamérica la reflexión y la investigación sobre las cuestiones más candentes acerca de la vida humana desde una bioética con fundamento metafísico y ontológico. Con ello\, incidir en las políticas de salud y en una opinión pública bien formada\, así como constituir una red académica en los ámbitos médico\, jurídico y filosófico que sumen esfuerzos a los de otras redes nacionales e internacionales. \n\n\n\nComo contexto\, Ecuador camina por una pendiente resbaladiza tras la sentencia de la Corte Constitucional de Ecuador de abril 2021\, que amplía la despenalización del aborto por violación a toda mujer (no solo a la discapacitada)\, y la despenalización de la eutanasia por parte de la Corte Constitucional de Ecuador el 7 de febrero de 2024. \n\n\n\n\n\nComparte en las redes sociales:
URL:https://pucesd.edu.ec/agenda/i-jornadas-iberoamericanas-de-bioetica/
ATTACH;FMTTYPE=image/jpeg:https://pucesd.edu.ec/wp-content/uploads/2024/07/08_cartel_bioetica.jpg
END:VEVENT
BEGIN:VEVENT
DTSTART;TZID=America/Guayaquil:20241111T080000
DTEND;TZID=America/Guayaquil:20241113T003000
DTSTAMP:20260419T191926
CREATED:20241111T151510Z
LAST-MODIFIED:20241111T151510Z
UID:37791-1731312000-1731457800@pucesd.edu.ec
SUMMARY:Examen de ubicación de Inglés
DESCRIPTION:Información \n\n\n\n\nFecha: 13 de noviembre de 2024Horario: 09h00 a 11h00Costo: $30\,00 \n\n\n\n\n\n\nRegístrate aquí
URL:https://pucesd.edu.ec/agenda/examen-de-ubicacion-de-ingles/
CATEGORIES:evento
ATTACH;FMTTYPE=image/jpeg:https://pucesd.edu.ec/wp-content/uploads/2024/11/02_EXAMEN-DE-UBICACION_2024.jpg
END:VEVENT
BEGIN:VEVENT
DTSTART;TZID=America/Guayaquil:20241107T100000
DTEND;TZID=America/Guayaquil:20241107T100000
DTSTAMP:20260419T191926
CREATED:20241107T140307Z
LAST-MODIFIED:20241107T141521Z
UID:37752-1730973600-1730973600@pucesd.edu.ec
SUMMARY:Acto de Incorporación
DESCRIPTION:Información \n\n\n\n\nFecha: 07 de noviembre de 2024Hora: 11h00Lugar: Aula Magna | PUCESD \n\n\n\n\n\n\nClick Here
URL:https://pucesd.edu.ec/agenda/acto-de-incorporacion/
ATTACH;FMTTYPE=image/jpeg:https://pucesd.edu.ec/wp-content/uploads/2024/11/01_INCORPORACION_202302.jpg
END:VEVENT
BEGIN:VEVENT
DTSTART;TZID=America/Guayaquil:20241107T080000
DTEND;TZID=America/Guayaquil:20241123T190000
DTSTAMP:20260419T191926
CREATED:20241107T142822Z
LAST-MODIFIED:20241107T142822Z
UID:37756-1730966400-1732388400@pucesd.edu.ec
SUMMARY:Ascenso al Rucu Pichincha
DESCRIPTION:Información \n\n\n\n\nFecha: 23 de noviembre de 2024 Punto de encuentro: Garita PUCESD Inscripciones: Del 05 al 20 de noviembre de 2024 Costo de inscripción: $30\,00 (incluye desayuno\, teleférico\, almuerzo y sánduche)\n\n\n\n\n\n\nRegístrate aquí
URL:https://pucesd.edu.ec/agenda/ascenso-al-rucu-pichincha/
END:VEVENT
BEGIN:VEVENT
DTSTART;TZID=America/Guayaquil:20241106T080000
DTEND;TZID=America/Guayaquil:20241106T170000
DTSTAMP:20260419T191926
CREATED:20241106T184110Z
LAST-MODIFIED:20241106T184111Z
UID:37735-1730880000-1730912400@pucesd.edu.ec
SUMMARY:ACTO DE INCORPORACIÓN  PUCESD COHORTE 2023-02
DESCRIPTION:Información \n\n\n\n\nFecha: 07 de noviembre de 2024Hora: 11h00Lugar: Aula Magna | PUCESD 
URL:https://pucesd.edu.ec/agenda/acto-de-incorporacion-pucesd-cohorte-2023-02/
ATTACH;FMTTYPE=image/jpeg:https://pucesd.edu.ec/wp-content/uploads/2024/11/01_INCORPORACION_202302.jpg
END:VEVENT
BEGIN:VEVENT
DTSTART;TZID=America/Guayaquil:20240919T110000
DTEND;TZID=America/Guayaquil:20240919T170000
DTSTAMP:20260419T191926
CREATED:20240913T173249Z
LAST-MODIFIED:20240913T175908Z
UID:37022-1726743600-1726765200@pucesd.edu.ec
SUMMARY:Webinar Internacional
DESCRIPTION:Fecha: Jueves\, 19 de septiembre de 2024 \n\n\n\n Hora: 11:00 EC | 17:00 ESP \n\n\n\n Transmisión en vivo por Facebook Live: @puce.santodomingo \n\n\n\n\n\n\n\n\n\n\n\n\n\n\n\n\n\n\n\n\n\nInformación \n\n\n\n\n Fecha: Jueves\, 19 de septiembre de 2024 Hora: 11:00 EC | 17:00 ESP Transmisión en vivo por Facebook Live: @puce.santodomingo \n\n\n\n\n\nClick Here\n\n\n\n\n \n\n\n\n\n\n\n\n\n\nTu atractivo encabezado\n\n\n\n\n\n\n\nTu atractivo encabezado
URL:https://pucesd.edu.ec/agenda/webinar-internacional/
ATTACH;FMTTYPE=image/jpeg:https://pucesd.edu.ec/wp-content/uploads/2024/09/web-1.1.jpg
END:VEVENT
BEGIN:VEVENT
DTSTART;TZID=America/Guayaquil:20240916T080000
DTEND;TZID=America/Guayaquil:20241004T170000
DTSTAMP:20260419T191926
CREATED:20240913T182154Z
LAST-MODIFIED:20240913T182154Z
UID:37037-1726473600-1728061200@pucesd.edu.ec
SUMMARY:Curso: Futuros Arquitectos 
DESCRIPTION:Información \n\n\n\n\nFecha: del 16 de septiembre al 4 de octubre  Duración: 15 días Total horas: 23 horas Horario: de  08:00 am a 10h30 amLugar: Auditorio Omega e Instalaciones PUCE-SD \n\n\n\n\n\n\nInscríbete aquí: https://forms.office.com/r/M7QqwsMQWb \n\n\n\n\n \n\n\n\n\n\n\n \n\n\n\n\n\n\n\n\n\n\n\n\n\nTu atractivo encabezado
URL:https://pucesd.edu.ec/agenda/curso-futuros-arquitectos/
END:VEVENT
BEGIN:VEVENT
DTSTART;TZID=America/Guayaquil:20240916T080000
DTEND;TZID=America/Guayaquil:20241004T170000
DTSTAMP:20260419T191926
CREATED:20240913T181716Z
LAST-MODIFIED:20240913T181717Z
UID:37034-1726473600-1728061200@pucesd.edu.ec
SUMMARY:Curso gratuito: Cálculo y Física para Ingenieros  
DESCRIPTION:Información \n\n\n\n\nFecha: del 16 de septiembre al 4 de octubre  Duración: 15 días Total horas: 54 horas Horario: de  08:00 am a 12:00 pm Lugar: Auditorio Omega e Instalaciones PUCE-SD \n\n\n\n\n\n\nIncríbete aquí: https://forms.office.com/r/h9ZbmQyDey 
URL:https://pucesd.edu.ec/agenda/curso-gratuito-calculo-y-fisica-para-ingenieros/
END:VEVENT
BEGIN:VEVENT
DTSTART;TZID=America/Guayaquil:20240603T110000
DTEND;TZID=America/Guayaquil:20240603T120000
DTSTAMP:20260419T191926
CREATED:20240517T190717Z
LAST-MODIFIED:20240715T133616Z
UID:32500-1717412400-1717416000@pucesd.edu.ec
SUMMARY:Mujeres Protagonistas de la Ciencia
DESCRIPTION:Información \n\n\n\n\nLunes\, 3 de junio de 2024\n\n\n\nDe 11h00 a 12h00\n\n\n\nAula Magna Fernando Rielo\n\n\n\n Vía a Chone Km. 2 y San Cristóbal\n\n\n\nOrganiza: Nombre y contacto\n\n\n\n\n\nInscríbete\n\n\n\n\nDescripción \n\n\n\n¡Únete a la celebración de «Mujeres Protagonistas de la Ciencia»! Este evento único está dedicado a reconocer y celebrar el impacto significativo de las mujeres en el ámbito científico. Durante siglos\, las contribuciones de las mujeres a la ciencia han sido invaluables\, y hoy más que nunca\, es importante destacar sus logros y fomentar la inclusión y la igualdad de género en todas las disciplinas científicas. \n\n\n\n«Mujeres Protagonistas de la Ciencia» es más que un evento; es un homenaje a la pasión\, la dedicación y la innovación de mujeres pioneras que han cambiado el curso de la historia con sus descubrimientos y avances. Este evento reunirá a algunas de las mentes más brillantes de nuestra época\, creando una plataforma donde la ciencia\, la inspiración y la igualdad se encuentran. \n\n\n\nNuestro programa está diseñado para todos: estudiantes\, profesionales\, educadores\, y cualquier persona interesada en el progreso científico y la igualdad de género. Contaremos con una serie de conferencias magistrales a cargo de científicas de renombre internacional\, paneles de discusión con expertas en diversas áreas de la ciencia y la tecnología\, talleres interactivos y oportunidades de networking que permitirán a los asistentes conectarse con líderes del sector. \n\n\n\nQueremos sensibilizar sobre la importancia de eliminar las barreras que aún enfrentan las mujeres en la ciencia y promover políticas y prácticas que fomenten un entorno más inclusivo y equitativo. Juntos\, podemos contribuir a un futuro donde la igualdad de género sea una realidad en todas las áreas del conocimiento. \n\n\n\nNo pierdas la oportunidad de ser parte de «Mujeres Protagonistas de la Ciencia». Marca tu calendario y prepárate para un día lleno de inspiración\, aprendizaje y conexiones significativas. Juntas y juntos\, podemos hacer que el mundo de la ciencia sea un lugar más inclusivo y diverso\, donde todas las voces\, independientemente de su género\, sean escuchadas y valoradas. \n\n\n\n¡Te esperamos para celebrar y construir juntos un futuro mejor para la ciencia y para todas las mujeres que la hacen posible! \n\n\n\n\n\nComparte en las redes sociales:
URL:https://pucesd.edu.ec/agenda/mujeres-protagonistas-de-la-ciencia/
ATTACH;FMTTYPE=image/jpeg:https://pucesd.edu.ec/wp-content/uploads/2024/05/evento-mujeres-protagonistas-ciencia-2024.jpg
END:VEVENT
BEGIN:VEVENT
DTSTART;TZID=America/Guayaquil:20240531T160000
DTEND;TZID=America/Guayaquil:20240531T180000
DTSTAMP:20260419T191926
CREATED:20240517T191427Z
LAST-MODIFIED:20240715T103123Z
UID:32509-1717171200-1717178400@pucesd.edu.ec
SUMMARY:Serenata a María
DESCRIPTION:Información \n\n\n\n\nViernes\, 31 de mayo de 2024\n\n\n\nDe 16h00 a 18h00\n\n\n\nAula Magna Fernando Rielo\n\n\n\nVía a Chone Km. 2 y San Cristóbal
URL:https://pucesd.edu.ec/agenda/serenata-a-maria/
ATTACH;FMTTYPE=image/jpeg:https://pucesd.edu.ec/wp-content/uploads/2024/05/evento-serenata-a-maria-2024.jpg
END:VEVENT
BEGIN:VEVENT
DTSTART;TZID=America/Guayaquil:20240530T150000
DTEND;TZID=America/Guayaquil:20240530T180000
DTSTAMP:20260419T191926
CREATED:20240517T155834Z
LAST-MODIFIED:20240520T151319Z
UID:32479-1717081200-1717092000@pucesd.edu.ec
SUMMARY:Concierto de Juan Esteban Valdano
DESCRIPTION:Información \n\n\n\n\nJueves\, 30 de mayo de 2024\n\n\n\nDe 15h00 a 18h00\n\n\n\nAula Magna Fernando Rielo\n\n\n\nVía a Chone Km. 2 y San Cristóbal
URL:https://pucesd.edu.ec/agenda/concierto-de-juan-esteban-valdano/
ATTACH;FMTTYPE=image/jpeg:https://pucesd.edu.ec/wp-content/uploads/2024/05/evento-concierto-valdano-2024.jpg
END:VEVENT
BEGIN:VEVENT
DTSTART;TZID=America/Guayaquil:20240530T090000
DTEND;TZID=America/Guayaquil:20240603T120000
DTSTAMP:20260419T191926
CREATED:20240517T192647Z
LAST-MODIFIED:20240520T151915Z
UID:32512-1717059600-1717416000@pucesd.edu.ec
SUMMARY:Programa de Eventos por los 29 años de la PUCESD
DESCRIPTION:Información \n\n\n\n\nDel jueves\, 30 de mayo al lunes 3 de junio de 2024\n\n\n\nConsulta los horarios según el evento\n\n\n\nPUCESD\n\n\n\nVía a Chone Km. 2 y San Cristóbal
URL:https://pucesd.edu.ec/agenda/programa-de-eventos-por-los-29-anos-de-la-pucesd/
ATTACH;FMTTYPE=image/jpeg:https://pucesd.edu.ec/wp-content/uploads/2024/05/programa-eventos-29-aniversario-pucesd.jpg
END:VEVENT
BEGIN:VEVENT
DTSTART;TZID=America/Guayaquil:20240530T090000
DTEND;TZID=America/Guayaquil:20240530T110000
DTSTAMP:20260419T191926
CREATED:20240517T154412Z
LAST-MODIFIED:20240520T151739Z
UID:32470-1717059600-1717066800@pucesd.edu.ec
SUMMARY:Sesión Solemne
DESCRIPTION:Información: \n\n\n\n\nJueves\, 30 de mayo de 2024\n\n\n\nDesde las 09h00\n\n\n\nAula Magna Fernando Rielo\n\n\n\nVía a Chone Km. 2 y San Cristóbal
URL:https://pucesd.edu.ec/agenda/sesion-solemne/
ATTACH;FMTTYPE=image/jpeg:https://pucesd.edu.ec/wp-content/uploads/2024/05/evento-sesion-solemne-2024.jpg
END:VEVENT
BEGIN:VEVENT
DTSTART;TZID=America/Guayaquil:20240422T163000
DTEND;TZID=America/Guayaquil:20240422T180000
DTSTAMP:20260419T191926
CREATED:20240513T085650Z
LAST-MODIFIED:20240520T151219Z
UID:32217-1713803400-1713808800@pucesd.edu.ec
SUMMARY:Acto de Inauguración del Año Académico 2024-2025
DESCRIPTION:Información \n\n\n\n\nLunes\, 22 de abril de 2024\n\n\n\n16h30\n\n\n\nAula Magna Fernando Rielo\n\n\n\nVía a Chone Km. 2 y San Cristóbal\n\n\n\nEntrada libre
URL:https://pucesd.edu.ec/agenda/acto-de-inauguracion-del-ano-academico-2024-2025/
ATTACH;FMTTYPE=image/jpeg:https://pucesd.edu.ec/wp-content/uploads/2024/05/Acto-inauguracion-ano-academico-2024-2025.jpg
END:VEVENT
BEGIN:VEVENT
DTSTART;TZID=America/Guayaquil:20240406T080000
DTEND;TZID=America/Guayaquil:20240420T130000
DTSTAMP:20260419T191926
CREATED:20240511T163913Z
LAST-MODIFIED:20240520T151233Z
UID:32037-1712390400-1713618000@pucesd.edu.ec
SUMMARY:Atención Presencial y Virtual en la PUCESD
DESCRIPTION:Información \n\n\n\n\nSábados 6\, 13 y 20 de abril de 2024\n\n\n\nDe 08h00 a 13h00\n\n\n\nEdificio San Ignacio de la PUCESD\n\n\n\nVía a Chone Km. 2 y San Cristóbal\n\n\n\n Atención virtual aquí
URL:https://pucesd.edu.ec/agenda/evento-2/
ATTACH;FMTTYPE=image/jpeg:https://pucesd.edu.ec/wp-content/uploads/2024/05/Atencion-para-matriculas-abril-2024.jpg
END:VEVENT
END:VCALENDAR