BEGIN:VCALENDAR
VERSION:2.0
PRODID:-//Pontificia Universidad Católica del Ecuador sede Santo Domingo - ECPv6.15.20//NONSGML v1.0//EN
CALSCALE:GREGORIAN
METHOD:PUBLISH
X-WR-CALNAME:Pontificia Universidad Católica del Ecuador sede Santo Domingo
X-ORIGINAL-URL:https://pucesd.edu.ec
X-WR-CALDESC:Eventos para Pontificia Universidad Católica del Ecuador sede Santo Domingo
REFRESH-INTERVAL;VALUE=DURATION:PT1H
X-Robots-Tag:noindex
X-PUBLISHED-TTL:PT1H
BEGIN:VTIMEZONE
TZID:America/Guayaquil
BEGIN:STANDARD
TZOFFSETFROM:-0500
TZOFFSETTO:-0500
TZNAME:-05
DTSTART:20250101T000000
END:STANDARD
END:VTIMEZONE
BEGIN:VEVENT
DTSTART;TZID=America/Guayaquil:20260119T080000
DTEND;TZID=America/Guayaquil:20260124T170000
DTSTAMP:20260419T141815
CREATED:20260119T140455Z
LAST-MODIFIED:20260119T140456Z
UID:41905-1768809600-1769274000@pucesd.edu.ec
SUMMARY:Campeonato Intercarreras
DESCRIPTION:Fecha: 24 de enero de 2026 \n\n\n\nHora: 11h00
URL:https://pucesd.edu.ec/agenda/campeonato-intercarreras/
CATEGORIES:evento
ATTACH;FMTTYPE=image/jpeg:https://pucesd.edu.ec/wp-content/uploads/2026/01/615503107_900151186027791_9017887584364860366_n.jpg
END:VEVENT
BEGIN:VEVENT
DTSTART;TZID=America/Guayaquil:20260122T100000
DTEND;TZID=America/Guayaquil:20260122T120000
DTSTAMP:20260419T141815
CREATED:20260108T142539Z
LAST-MODIFIED:20260108T142539Z
UID:41849-1769076000-1769083200@pucesd.edu.ec
SUMMARY:Inauguración del Polideportivo
DESCRIPTION:Fecha: 22 de enero de 2026 \n\n\n\nHora: 10h00
URL:https://pucesd.edu.ec/agenda/inauguracion-del-polideportivo/
CATEGORIES:evento
ATTACH;FMTTYPE=image/jpeg:https://pucesd.edu.ec/wp-content/uploads/2026/01/612736767_895978683111708_4229535197222667086_n-1.jpg
END:VEVENT
END:VCALENDAR